BEGIN:VCALENDAR
VERSION:2.0
PRODID:-//Greenfields - ECPv6.15.13//NONSGML v1.0//EN
CALSCALE:GREGORIAN
METHOD:PUBLISH
X-WR-CALNAME:Greenfields
X-ORIGINAL-URL:https://greenfields.uk.com
X-WR-CALDESC:Events for Greenfields
REFRESH-INTERVAL;VALUE=DURATION:PT1H
X-Robots-Tag:noindex
X-PUBLISHED-TTL:PT1H
BEGIN:VTIMEZONE
TZID:Europe/London
BEGIN:DAYLIGHT
TZOFFSETFROM:+0000
TZOFFSETTO:+0100
TZNAME:BST
DTSTART:20240331T010000
END:DAYLIGHT
BEGIN:STANDARD
TZOFFSETFROM:+0100
TZOFFSETTO:+0000
TZNAME:GMT
DTSTART:20241027T010000
END:STANDARD
BEGIN:DAYLIGHT
TZOFFSETFROM:+0000
TZOFFSETTO:+0100
TZNAME:BST
DTSTART:20250330T010000
END:DAYLIGHT
BEGIN:STANDARD
TZOFFSETFROM:+0100
TZOFFSETTO:+0000
TZNAME:GMT
DTSTART:20251026T010000
END:STANDARD
BEGIN:DAYLIGHT
TZOFFSETFROM:+0000
TZOFFSETTO:+0100
TZNAME:BST
DTSTART:20260329T010000
END:DAYLIGHT
BEGIN:STANDARD
TZOFFSETFROM:+0100
TZOFFSETTO:+0000
TZNAME:GMT
DTSTART:20261025T010000
END:STANDARD
BEGIN:DAYLIGHT
TZOFFSETFROM:+0000
TZOFFSETTO:+0100
TZNAME:BST
DTSTART:20270328T010000
END:DAYLIGHT
BEGIN:STANDARD
TZOFFSETFROM:+0100
TZOFFSETTO:+0000
TZNAME:GMT
DTSTART:20271031T010000
END:STANDARD
END:VTIMEZONE
BEGIN:VEVENT
DTSTART;VALUE=DATE:20250901
DTEND;VALUE=DATE:20251025
DTSTAMP:20260423T204205
CREATED:20250213T150938Z
LAST-MODIFIED:20250213T150949Z
UID:5100-1756684800-1761350399@greenfields.uk.com
SUMMARY:Autumn Term 1
DESCRIPTION:Term dates
URL:https://greenfields.uk.com/event/autumn-term-1/
CATEGORIES:Term Dates
END:VEVENT
BEGIN:VEVENT
DTSTART;VALUE=DATE:20251027
DTEND;VALUE=DATE:20251101
DTSTAMP:20260423T204205
CREATED:20250213T151141Z
LAST-MODIFIED:20250213T151150Z
UID:5104-1761523200-1761955199@greenfields.uk.com
SUMMARY:School Holidays
DESCRIPTION:
URL:https://greenfields.uk.com/event/school-holidays-6/
CATEGORIES:Holidays
END:VEVENT
BEGIN:VEVENT
DTSTART;VALUE=DATE:20251103
DTEND;VALUE=DATE:20251220
DTSTAMP:20260423T204205
CREATED:20250213T151058Z
LAST-MODIFIED:20250213T151058Z
UID:5102-1762128000-1766188799@greenfields.uk.com
SUMMARY:Autumn Term 2
DESCRIPTION:Term dates
URL:https://greenfields.uk.com/event/autumn-term-2/
CATEGORIES:Term Dates
END:VEVENT
BEGIN:VEVENT
DTSTART;VALUE=DATE:20251222
DTEND;VALUE=DATE:20260103
DTSTAMP:20260423T204205
CREATED:20250213T151234Z
LAST-MODIFIED:20250213T151241Z
UID:5106-1766361600-1767398399@greenfields.uk.com
SUMMARY:School Holidays
DESCRIPTION:
URL:https://greenfields.uk.com/event/school-holidays-7/
CATEGORIES:Holidays
END:VEVENT
BEGIN:VEVENT
DTSTART;VALUE=DATE:20260105
DTEND;VALUE=DATE:20260214
DTSTAMP:20260423T204205
CREATED:20250213T151348Z
LAST-MODIFIED:20250213T151354Z
UID:5108-1767571200-1771027199@greenfields.uk.com
SUMMARY:Spring Term 1
DESCRIPTION:Term Dates
URL:https://greenfields.uk.com/event/spring-term-1/
CATEGORIES:Term Dates
END:VEVENT
BEGIN:VEVENT
DTSTART;VALUE=DATE:20260105
DTEND;VALUE=DATE:20260106
DTSTAMP:20260423T204205
CREATED:20250213T152055Z
LAST-MODIFIED:20250213T152106Z
UID:5120-1767571200-1767657599@greenfields.uk.com
SUMMARY:Inset Day
DESCRIPTION:
URL:https://greenfields.uk.com/event/inset-day-3/
CATEGORIES:Inset Day
END:VEVENT
BEGIN:VEVENT
DTSTART;TZID=Europe/London:20260216T080000
DTEND;TZID=Europe/London:20260220T170000
DTSTAMP:20260423T204205
CREATED:20250213T151450Z
LAST-MODIFIED:20250213T151456Z
UID:5110-1771228800-1771606800@greenfields.uk.com
SUMMARY:School Holidays
DESCRIPTION:
URL:https://greenfields.uk.com/event/school-holidays-8/
CATEGORIES:Half Term
END:VEVENT
BEGIN:VEVENT
DTSTART;VALUE=DATE:20260223
DTEND;VALUE=DATE:20260328
DTSTAMP:20260423T204205
CREATED:20250213T151654Z
LAST-MODIFIED:20250213T151701Z
UID:5112-1771804800-1774655999@greenfields.uk.com
SUMMARY:Spring Term 2
DESCRIPTION:Term Dates
URL:https://greenfields.uk.com/event/spring-term-2/
CATEGORIES:Term Dates
END:VEVENT
BEGIN:VEVENT
DTSTART;VALUE=DATE:20260223
DTEND;VALUE=DATE:20260224
DTSTAMP:20260423T204205
CREATED:20250213T152147Z
LAST-MODIFIED:20250213T152154Z
UID:5122-1771804800-1771891199@greenfields.uk.com
SUMMARY:Inset Day
DESCRIPTION:
URL:https://greenfields.uk.com/event/inset-day-4/
CATEGORIES:Inset Day
END:VEVENT
BEGIN:VEVENT
DTSTART;VALUE=DATE:20260413
DTEND;VALUE=DATE:20260523
DTSTAMP:20260423T204205
CREATED:20250213T151808Z
LAST-MODIFIED:20250213T151815Z
UID:5114-1776038400-1779494399@greenfields.uk.com
SUMMARY:Summer Term 1
DESCRIPTION:Term dates
URL:https://greenfields.uk.com/event/summer-term-1/
CATEGORIES:Term Dates
END:VEVENT
BEGIN:VEVENT
DTSTART;VALUE=DATE:20260601
DTEND;VALUE=DATE:20260721
DTSTAMP:20260423T204205
CREATED:20250213T151914Z
LAST-MODIFIED:20250213T151924Z
UID:5116-1780272000-1784591999@greenfields.uk.com
SUMMARY:Summer Term 2
DESCRIPTION:Term Dates
URL:https://greenfields.uk.com/event/summer-term-2/
CATEGORIES:Term Dates
END:VEVENT
BEGIN:VEVENT
DTSTART;VALUE=DATE:20260601
DTEND;VALUE=DATE:20260602
DTSTAMP:20260423T204205
CREATED:20250213T152229Z
LAST-MODIFIED:20250213T152250Z
UID:5124-1780272000-1780358399@greenfields.uk.com
SUMMARY:Inset Day
DESCRIPTION:
URL:https://greenfields.uk.com/event/inset-day-5/
CATEGORIES:Inset Day
END:VEVENT
END:VCALENDAR