BEGIN:VCALENDAR
VERSION:2.0
PRODID:-//Greenfields - ECPv6.15.13//NONSGML v1.0//EN
CALSCALE:GREGORIAN
METHOD:PUBLISH
X-WR-CALNAME:Greenfields
X-ORIGINAL-URL:https://greenfields.uk.com
X-WR-CALDESC:Events for Greenfields
REFRESH-INTERVAL;VALUE=DURATION:PT1H
X-Robots-Tag:noindex
X-PUBLISHED-TTL:PT1H
BEGIN:VTIMEZONE
TZID:Europe/London
BEGIN:DAYLIGHT
TZOFFSETFROM:+0000
TZOFFSETTO:+0100
TZNAME:BST
DTSTART:20220327T010000
END:DAYLIGHT
BEGIN:STANDARD
TZOFFSETFROM:+0100
TZOFFSETTO:+0000
TZNAME:GMT
DTSTART:20221030T010000
END:STANDARD
BEGIN:DAYLIGHT
TZOFFSETFROM:+0000
TZOFFSETTO:+0100
TZNAME:BST
DTSTART:20230326T010000
END:DAYLIGHT
BEGIN:STANDARD
TZOFFSETFROM:+0100
TZOFFSETTO:+0000
TZNAME:GMT
DTSTART:20231029T010000
END:STANDARD
BEGIN:DAYLIGHT
TZOFFSETFROM:+0000
TZOFFSETTO:+0100
TZNAME:BST
DTSTART:20240331T010000
END:DAYLIGHT
BEGIN:STANDARD
TZOFFSETFROM:+0100
TZOFFSETTO:+0000
TZNAME:GMT
DTSTART:20241027T010000
END:STANDARD
END:VTIMEZONE
BEGIN:VEVENT
DTSTART;VALUE=DATE:20231127
DTEND;VALUE=DATE:20231202
DTSTAMP:20260423T164711
CREATED:20231009T105733Z
LAST-MODIFIED:20231009T105733Z
UID:3593-1701043200-1701475199@greenfields.uk.com
SUMMARY:Teaching & Learning Review
DESCRIPTION:
URL:https://greenfields.uk.com/event/teaching-learning-review-2/
END:VEVENT
BEGIN:VEVENT
DTSTART;VALUE=DATE:20231113
DTEND;VALUE=DATE:20231118
DTSTAMP:20260423T164711
CREATED:20231009T105618Z
LAST-MODIFIED:20231009T105618Z
UID:3591-1699833600-1700265599@greenfields.uk.com
SUMMARY:
DESCRIPTION:Learning Walk
URL:https://greenfields.uk.com/event/3591/
END:VEVENT
BEGIN:VEVENT
DTSTART;VALUE=DATE:20231106
DTEND;VALUE=DATE:20231107
DTSTAMP:20260423T164711
CREATED:20231009T103755Z
LAST-MODIFIED:20231009T103755Z
UID:3589-1699228800-1699315199@greenfields.uk.com
SUMMARY:Inset Day
DESCRIPTION:
URL:https://greenfields.uk.com/event/inset-day/
CATEGORIES:Inset Day
END:VEVENT
BEGIN:VEVENT
DTSTART;VALUE=DATE:20231030
DTEND;VALUE=DATE:20231104
DTSTAMP:20260423T164711
CREATED:20231009T103728Z
LAST-MODIFIED:20231009T103728Z
UID:3587-1698624000-1699055999@greenfields.uk.com
SUMMARY:Half Term
DESCRIPTION:
URL:https://greenfields.uk.com/event/half-term/
CATEGORIES:Half Term
END:VEVENT
BEGIN:VEVENT
DTSTART;VALUE=DATE:20231023
DTEND;VALUE=DATE:20231028
DTSTAMP:20260423T164711
CREATED:20231009T103646Z
LAST-MODIFIED:20231009T103646Z
UID:3585-1698019200-1698451199@greenfields.uk.com
SUMMARY:Reward/Enrichment Activity Week
DESCRIPTION:
URL:https://greenfields.uk.com/event/reward-enrichment-activity-week/
CATEGORIES:Activity Week
END:VEVENT
BEGIN:VEVENT
DTSTART;VALUE=DATE:20231020
DTEND;VALUE=DATE:20231021
DTSTAMP:20260423T164711
CREATED:20231009T103551Z
LAST-MODIFIED:20231009T103551Z
UID:3583-1697760000-1697846399@greenfields.uk.com
SUMMARY:Theme Day
DESCRIPTION:
URL:https://greenfields.uk.com/event/theme-day/
CATEGORIES:Theme Days
END:VEVENT
BEGIN:VEVENT
DTSTART;VALUE=DATE:20230925
DTEND;VALUE=DATE:20230930
DTSTAMP:20260423T164711
CREATED:20231009T103442Z
LAST-MODIFIED:20231009T103442Z
UID:3581-1695600000-1696031999@greenfields.uk.com
SUMMARY:Teaching & Learning Review
DESCRIPTION:
URL:https://greenfields.uk.com/event/teaching-learning-review/
END:VEVENT
BEGIN:VEVENT
DTSTART;VALUE=DATE:20230911
DTEND;VALUE=DATE:20230916
DTSTAMP:20260423T164711
CREATED:20231009T103348Z
LAST-MODIFIED:20231009T103348Z
UID:3579-1694390400-1694822399@greenfields.uk.com
SUMMARY:Learning Walk
DESCRIPTION:
URL:https://greenfields.uk.com/event/learning-walk/
END:VEVENT
BEGIN:VEVENT
DTSTART;VALUE=DATE:20230904
DTEND;VALUE=DATE:20230906
DTSTAMP:20260423T164711
CREATED:20231009T103314Z
LAST-MODIFIED:20231009T103314Z
UID:3577-1693785600-1693958399@greenfields.uk.com
SUMMARY:Inset Days
DESCRIPTION:
URL:https://greenfields.uk.com/event/inset-days/
CATEGORIES:Inset Day
END:VEVENT
BEGIN:VEVENT
DTSTART;VALUE=DATE:20230828
DTEND;VALUE=DATE:20230829
DTSTAMP:20260423T164711
CREATED:20231009T103209Z
LAST-MODIFIED:20231009T103219Z
UID:3575-1693180800-1693267199@greenfields.uk.com
SUMMARY:August Bank Holiday
DESCRIPTION:
URL:https://greenfields.uk.com/event/august-bank-holiday/
CATEGORIES:Bank Holidays
END:VEVENT
END:VCALENDAR